BEGIN:VCALENDAR
VERSION:2.0
PRODID:-//Euro Grèce France - ECPv6.11.2.1//NONSGML v1.0//EN
CALSCALE:GREGORIAN
METHOD:PUBLISH
X-WR-CALNAME:Euro Grèce France
X-ORIGINAL-URL:https://www.eurogrecefrance.org
X-WR-CALDESC:Évènements pour Euro Grèce France
REFRESH-INTERVAL;VALUE=DURATION:PT1H
X-Robots-Tag:noindex
X-PUBLISHED-TTL:PT1H
BEGIN:VTIMEZONE
TZID:Europe/Paris
BEGIN:DAYLIGHT
TZOFFSETFROM:+0100
TZOFFSETTO:+0200
TZNAME:CEST
DTSTART:20250330T010000
END:DAYLIGHT
BEGIN:STANDARD
TZOFFSETFROM:+0200
TZOFFSETTO:+0100
TZNAME:CET
DTSTART:20251026T010000
END:STANDARD
END:VTIMEZONE
BEGIN:VEVENT
DTSTART;VALUE=DATE:20251004
DTEND;VALUE=DATE:20251006
DTSTAMP:20260423T052756
CREATED:20250831T184623Z
LAST-MODIFIED:20250929T115811Z
UID:511-1759536000-1759708799@www.eurogrecefrance.org
SUMMARY:Stage de Danses Crétoises
DESCRIPTION:Stage de danses crétoises avec Pavlos Polioudakis (école de danse Akrites\, Rethymnon)niveau intermediaire/avancé\n\nsamedi 4 octobre 2025 : 10h-17hdimanche 5 octobre 2025 : 10h-14h\n\nRepas tiré du sac à partager.\nMaison pour tous André Chamson105 rue Gustave Eiffel 34070 Montpellier\n\nTarifs : 15 € adhérents inscrits au cours de danse ; 45 € non adhérents.\nSur inscription : 06 84 57 74 95
URL:https://www.eurogrecefrance.org/index.php/event/stage-de-danses-cretoises/
CATEGORIES:Stages
ATTACH;FMTTYPE=image/jpeg:https://www.eurogrecefrance.org/wp-content/uploads/2025/08/stage-danse-cretoise_Pavlos_Polioudakis_2025_20250828_094614_0000.jpg
END:VEVENT
BEGIN:VEVENT
DTSTART;TZID=Europe/Paris:20251011T143000
DTEND;TZID=Europe/Paris:20251011T173000
DTSTAMP:20260423T052756
CREATED:20250831T185311Z
LAST-MODIFIED:20250929T115538Z
UID:515-1760193000-1760203800@www.eurogrecefrance.org
SUMMARY:Atelier de Cuisine
DESCRIPTION:Régulièrement\, l’association Euro-Grèce France propose des ateliers cuisine afin de faire découvrir la gastronomie grecque. \nDans chaque atelier sont proposées des recettes de saison\, en général un plat salé et un dessert/gâteau. \nLe matériel et les ingrédients sont fournis\, les convives viennent avec leur tablier\, leurs plats pour emporter une partie des réalisations et leur bonne humeur.  Souvent\, on déguste ensemble le fruit de notre travail. \n20 €/participant en fonction des recettes\nSur inscription\nContacter Mairi par sms : 06 01 97 08 78
URL:https://www.eurogrecefrance.org/index.php/event/atelier-de-cuisine/
CATEGORIES:Ateliers Cuisine
ATTACH;FMTTYPE=image/jpeg:https://www.eurogrecefrance.org/wp-content/uploads/2025/08/Affiche-Atelier-Cuisine-grecque-2025-DEF.jpg
END:VEVENT
BEGIN:VEVENT
DTSTART;TZID=Europe/Paris:20251014T200000
DTEND;TZID=Europe/Paris:20251014T223000
DTSTAMP:20260423T052756
CREATED:20250929T114548Z
LAST-MODIFIED:20250929T122228Z
UID:644-1760472000-1760481000@www.eurogrecefrance.org
SUMMARY:Soirée Taverne "Hommage à Tony"
DESCRIPTION:Euro-Grèce France invite le groupe PHILIA pour une soirée Taverne au restaurant La Petite Aphrodite.\nCette soirée sera dédiée à Tony Anagnostopoulos\, ancien président et membre fondateur de notre association qui nous a quitté en mai dernier. \nSur réservation
URL:https://www.eurogrecefrance.org/index.php/event/soiree-taverne-2/
CATEGORIES:Soirée Taverne
ATTACH;FMTTYPE=image/jpeg:https://www.eurogrecefrance.org/wp-content/uploads/2025/09/Soiree-Taverne-fev2025_VERSION-FINALE.jpg
END:VEVENT
END:VCALENDAR