BEGIN:VCALENDAR
VERSION:2.0
PRODID:-//Euro Grèce France - ECPv6.11.2.1//NONSGML v1.0//EN
CALSCALE:GREGORIAN
METHOD:PUBLISH
X-WR-CALNAME:Euro Grèce France
X-ORIGINAL-URL:https://www.eurogrecefrance.org
X-WR-CALDESC:Évènements pour Euro Grèce France
REFRESH-INTERVAL;VALUE=DURATION:PT1H
X-Robots-Tag:noindex
X-PUBLISHED-TTL:PT1H
BEGIN:VTIMEZONE
TZID:Europe/Paris
BEGIN:DAYLIGHT
TZOFFSETFROM:+0100
TZOFFSETTO:+0200
TZNAME:CEST
DTSTART:20250330T010000
END:DAYLIGHT
BEGIN:STANDARD
TZOFFSETFROM:+0200
TZOFFSETTO:+0100
TZNAME:CET
DTSTART:20251026T010000
END:STANDARD
END:VTIMEZONE
BEGIN:VEVENT
DTSTART;VALUE=DATE:20250315
DTEND;VALUE=DATE:20250316
DTSTAMP:20260423T173008
CREATED:20250429T112506Z
LAST-MODIFIED:20250825T074906Z
UID:131-1741996800-1742083199@www.eurogrecefrance.org
SUMMARY:Soirée Cabaret Rebetiko
DESCRIPTION:
URL:https://www.eurogrecefrance.org/index.php/event/soiree-cabaret-rebetiko/
CATEGORIES:Soirée Taverne
ATTACH;FMTTYPE=image/webp:https://www.eurogrecefrance.org/wp-content/uploads/2025/04/eurogrecefrance-rebetiko.webp
END:VEVENT
BEGIN:VEVENT
DTSTART;VALUE=DATE:20250329
DTEND;VALUE=DATE:20250331
DTSTAMP:20260423T173008
CREATED:20250429T112422Z
LAST-MODIFIED:20250825T074901Z
UID:129-1743206400-1743379199@www.eurogrecefrance.org
SUMMARY:Fête Nationale Grecque 2025
DESCRIPTION:Pour cet évènement\, nous aurons l’ honneur de recevoir une délégation officielle grecque\, composée du Maire de KOS\, ville jumelée avec Montpellier et de la déléguée au Tourisme de la ville. \n**Samedi 29 mars -9h30 Te Deum en l’église Orthodoxe Sainte-Philothée au Domaine de Grammont à Montpellier – à 11 heures\, le dépôt de gerbe devant la statue d’ Adamantios KORAÏS\, située 5 place du Nombre d’Or suivi d’un cocktail déjeunatoire \n**Dimanche 30 mars 2025 à 12h30 Gala de l’association Euro-Grèce-France– Repas par le traiteur Grand-spectacle de danses traditionnelles de Thrace par les danseurs de l’assocation- chants grecs par la chorale « Myrtia » de l’association- animation musicale par le groupe Les Lavriotes\, accompagné de Sevi Steliatou\, notre cheffe de choeur. \nTombola avec de nombreux lots Salle des Rencontres de la mairie de Montpellier\, 1 place Georges Frêche à Montpellier.\nAccueil du public dès 12h00 Tarifs : Adulte Non adhérent Euro Grèce France : 45 € Adulte adhérent Euro Grèce France:  40 € Etudiant/chômeurs : 25 € Enfant (jusqu’à 12 ans) : 15 € \nDeux modes d’inscription et paiement : Inscription par courrier et paiement par chèque : en remplissant le dossier d’inscription\nInscription et paiement en ligne sur HelloAsso : https://www.helloasso.com/associations/association-euro-grece-france/evenements/fete-nationale-grecque-2025\nInscription et paiement à l’avance obligatoire. Aucune réservation sans réglement ne sera pas retenue. \nRéservation à faire avant le 20 mars 2025
URL:https://www.eurogrecefrance.org/index.php/event/fete-nationale-grecque-2025/
CATEGORIES:Autres
ATTACH;FMTTYPE=image/webp:https://www.eurogrecefrance.org/wp-content/uploads/2025/04/eurogrecefrance-fetenationale.webp
END:VEVENT
END:VCALENDAR