BEGIN:VCALENDAR
VERSION:2.0
PRODID:-//Euro Grèce France - ECPv6.11.2.1//NONSGML v1.0//EN
CALSCALE:GREGORIAN
METHOD:PUBLISH
X-ORIGINAL-URL:https://www.eurogrecefrance.org
X-WR-CALDESC:Évènements pour Euro Grèce France
REFRESH-INTERVAL;VALUE=DURATION:PT1H
X-Robots-Tag:noindex
X-PUBLISHED-TTL:PT1H
BEGIN:VTIMEZONE
TZID:Europe/Paris
BEGIN:DAYLIGHT
TZOFFSETFROM:+0100
TZOFFSETTO:+0200
TZNAME:CEST
DTSTART:20240331T010000
END:DAYLIGHT
BEGIN:STANDARD
TZOFFSETFROM:+0200
TZOFFSETTO:+0100
TZNAME:CET
DTSTART:20241027T010000
END:STANDARD
BEGIN:DAYLIGHT
TZOFFSETFROM:+0100
TZOFFSETTO:+0200
TZNAME:CEST
DTSTART:20250330T010000
END:DAYLIGHT
BEGIN:STANDARD
TZOFFSETFROM:+0200
TZOFFSETTO:+0100
TZNAME:CET
DTSTART:20251026T010000
END:STANDARD
BEGIN:DAYLIGHT
TZOFFSETFROM:+0100
TZOFFSETTO:+0200
TZNAME:CEST
DTSTART:20260329T010000
END:DAYLIGHT
BEGIN:STANDARD
TZOFFSETFROM:+0200
TZOFFSETTO:+0100
TZNAME:CET
DTSTART:20261025T010000
END:STANDARD
END:VTIMEZONE
BEGIN:VEVENT
DTSTART;TZID=Europe/Paris:20260412T143000
DTEND;TZID=Europe/Paris:20260412T173000
DTSTAMP:20260422T182556
CREATED:20260216T103256Z
LAST-MODIFIED:20260216T103256Z
UID:755-1776004200-1776015000@www.eurogrecefrance.org
SUMMARY:Atelier de Cuisine
DESCRIPTION:Régulièrement\, l’association Euro-Grèce France propose des ateliers cuisine afin de faire découvrir la gastronomie grecque. \nDans chaque atelier sont proposées des recettes de saison\, en général un plat salé et un dessert/gâteau. \nLe matériel et les ingrédients sont fournis\, les convives viennent avec leur tablier\, leurs plats pour emporter une partie des réalisations et leur bonne humeur.  Souvent\, on déguste ensemble le fruit de notre travail. \n20 €/participant en fonction des recettes\nSur inscription\nContacter Mairi par sms : 06 01 97 08 78
URL:https://www.eurogrecefrance.org/index.php/event/atelier-de-cuisine-5/
CATEGORIES:Ateliers Cuisine
ATTACH;FMTTYPE=image/jpeg:https://www.eurogrecefrance.org/wp-content/uploads/2026/02/Affiche-Atelier-Cuisine-grecque-14fev-12avril2026.jpg
END:VEVENT
BEGIN:VEVENT
DTSTART;VALUE=DATE:20260328
DTEND;VALUE=DATE:20260330
DTSTAMP:20260422T182556
CREATED:20251202T084537Z
LAST-MODIFIED:20260216T102725Z
UID:704-1774656000-1774828799@www.eurogrecefrance.org
SUMMARY:Fête Nationale Grecque 2026
DESCRIPTION:**le samedi 28 mars 2026 \n– à 9H30\, le Te Deum en l’église Orthodoxe Sainte-Philothée au Domaine de Grammont à Montpellier\n– à 11 heures\, le dépôt de gerbe devant la statue d’ Adamantios KORAÏS\, située 5 place du Nombre d’Or\n\n\n\n\n\n\n\n\n  \n**Dimanche 29 mars 2026 à 12h30\nSalle des Rencontres de la mairie de Montpellier\, 1 place Georges Frêche à Montpellier. \nGala de l’association Euro-Grèce-France :\nChants grecs par la chorale « Myrtia » de l’association\nSpectacle de danses traditionnelles de Crète par les danseurs de l’association \nAnimation musicale par Dj Alex FP (Alexandros Azinas) \nRepas traiteur. Menu Entrée + Plat + dessert + vin (au choix au moment de l’inscription (viande\, poisson ou végétarien) \n  \nTarifs\nNon adhérent : 45 €\nAdhérent : 40 €\nEtudiant : 25 €\nEnfant (jusqu’à 12 ans) : 15 € \n\n\n\n\n\n\n\n\n\nPour y participer\, vous devez vous inscrire. Attention\, il y a 3 possibilités de plat principal (végétarien\, viande\, poisson) que vous devrez indiquer sur les fiches d’inscription. Cette information nous est indispensable et définitive pour la sollicitation du traiteur.\n\n\nAttention\, la date limite pour s’inscrire au repas du 29 mars est le 20 mars. \n \nCette année encore\, vous aurez la possibilité de régler votre participation de 2 manières:\n– un paiement en ligne par le biais du site HelloAsso  dont voici le lien que vous devez copier/coller:\n\n\n\n\n\n\n\n\n\n\n\n\n\n\n\n\n\n\n https://www.helloasso.com/associations/association-euro-grece-france/evenements/fete-nationale-grecque-2026 \n\n\n\n\n\n\n\n– un paiement par chèque avec le Bulletin Inscription Paiement par Chèque Fête Nationale 2026 \n\n  \n 
URL:https://www.eurogrecefrance.org/index.php/event/fete-nationale-grecque-2026/
CATEGORIES:Autres
ATTACH;FMTTYPE=image/jpeg:https://www.eurogrecefrance.org/wp-content/uploads/2025/12/Affiche_Fete-Nat_2026-scaled.jpg
END:VEVENT
BEGIN:VEVENT
DTSTART;TZID=Europe/Paris:20260215T140000
DTEND;TZID=Europe/Paris:20260215T173000
DTSTAMP:20260422T182556
CREATED:20260130T125608Z
LAST-MODIFIED:20260130T125608Z
UID:739-1771164000-1771176600@www.eurogrecefrance.org
SUMMARY:Carnaval des enfants
DESCRIPTION:Les Ellinopoula de l’association Euro-Grèce-France vous invitent à leur goûter partagé pour fêter le carnaval\, dimanche 15 février 2026\, de 14h à 17h30\nMaison pour Tous Léo Lagrange \nVenez déguisés !
URL:https://www.eurogrecefrance.org/index.php/event/carnaval-des-enfants/
CATEGORIES:Autres
ATTACH;FMTTYPE=image/jpeg:https://www.eurogrecefrance.org/wp-content/uploads/2026/01/carnaval-EGF_2026.jpg
END:VEVENT
BEGIN:VEVENT
DTSTART;TZID=Europe/Paris:20260214T143000
DTEND;TZID=Europe/Paris:20260214T173000
DTSTAMP:20260422T182556
CREATED:20260216T103224Z
LAST-MODIFIED:20260216T103224Z
UID:752-1771079400-1771090200@www.eurogrecefrance.org
SUMMARY:Atelier de Cuisine
DESCRIPTION:Régulièrement\, l’association Euro-Grèce France propose des ateliers cuisine afin de faire découvrir la gastronomie grecque. \nDans chaque atelier sont proposées des recettes de saison\, en général un plat salé et un dessert/gâteau. \nLe matériel et les ingrédients sont fournis\, les convives viennent avec leur tablier\, leurs plats pour emporter une partie des réalisations et leur bonne humeur.  Souvent\, on déguste ensemble le fruit de notre travail. \n20 €/participant en fonction des recettes\nSur inscription\nContacter Mairi par sms : 06 01 97 08 78
URL:https://www.eurogrecefrance.org/index.php/event/atelier-de-cuisine-4/
CATEGORIES:Ateliers Cuisine
ATTACH;FMTTYPE=image/jpeg:https://www.eurogrecefrance.org/wp-content/uploads/2026/02/Affiche-Atelier-Cuisine-grecque-14fev-12avril2026.jpg
END:VEVENT
BEGIN:VEVENT
DTSTART;TZID=Europe/Paris:20260111T160000
DTEND;TZID=Europe/Paris:20260111T180000
DTSTAMP:20260422T182556
CREATED:20251202T084139Z
LAST-MODIFIED:20260109T125515Z
UID:701-1768147200-1768154400@www.eurogrecefrance.org
SUMMARY:Assemblée générale et vassilopita
DESCRIPTION:Assemblée générale de notre association et Vassilopita
URL:https://www.eurogrecefrance.org/index.php/event/atelier-de-cuisine-3/
LOCATION:Maison pour tous Melina Mercouri\, 842 Rue de la vieille poste\, Montpellier\, occitanie\, 34000\, France
CATEGORIES:Autres
END:VEVENT
BEGIN:VEVENT
DTSTART;TZID=Europe/Paris:20251213T143000
DTEND;TZID=Europe/Paris:20251213T173000
DTSTAMP:20260422T182556
CREATED:20250831T185655Z
LAST-MODIFIED:20250929T115603Z
UID:521-1765636200-1765647000@www.eurogrecefrance.org
SUMMARY:Atelier de Cuisine
DESCRIPTION:Régulièrement\, l’association Euro-Grèce France propose des ateliers cuisine afin de faire découvrir la gastronomie grecque. \nDans chaque atelier sont proposées des recettes de saison\, en général un plat salé et un dessert/gâteau. \nLe matériel et les ingrédients sont fournis\, les convives viennent avec leur tablier\, leurs plats pour emporter une partie des réalisations et leur bonne humeur.  Souvent\, on déguste ensemble le fruit de notre travail. \n20 €/participant en fonction des recettes\nSur inscription\nContacter Mairi par sms : 06 01 97 08 78
URL:https://www.eurogrecefrance.org/index.php/event/atelier-de-cuisine-2/
CATEGORIES:Ateliers Cuisine
ATTACH;FMTTYPE=image/jpeg:https://www.eurogrecefrance.org/wp-content/uploads/2025/08/Affiche-Atelier-Cuisine-grecque-2025-DEF.jpg
END:VEVENT
BEGIN:VEVENT
DTSTART;VALUE=DATE:20251114
DTEND;VALUE=DATE:20251115
DTSTAMP:20260422T182556
CREATED:20250831T185541Z
LAST-MODIFIED:20250929T122425Z
UID:518-1763078400-1763164799@www.eurogrecefrance.org
SUMMARY:Hommage à Manos Hadjidakis
DESCRIPTION:A l’occasion du centenaire de la naissance du compositeur grec Manos Hadjidakis (1925-1994)\, Euro-Grèce France vous propose une soirée hommage par le groupe PHILIA. \nSur réservation
URL:https://www.eurogrecefrance.org/index.php/event/hommage-a-manos-hadjidakis/
CATEGORIES:Spectacle & Concert
ATTACH;FMTTYPE=image/jpeg:https://www.eurogrecefrance.org/wp-content/uploads/2025/08/Affiche-Manos-Hadjidakis-2025_20250904_094919_0000.jpg
END:VEVENT
BEGIN:VEVENT
DTSTART;TZID=Europe/Paris:20251014T200000
DTEND;TZID=Europe/Paris:20251014T223000
DTSTAMP:20260422T182556
CREATED:20250929T114548Z
LAST-MODIFIED:20250929T122228Z
UID:644-1760472000-1760481000@www.eurogrecefrance.org
SUMMARY:Soirée Taverne "Hommage à Tony"
DESCRIPTION:Euro-Grèce France invite le groupe PHILIA pour une soirée Taverne au restaurant La Petite Aphrodite.\nCette soirée sera dédiée à Tony Anagnostopoulos\, ancien président et membre fondateur de notre association qui nous a quitté en mai dernier. \nSur réservation
URL:https://www.eurogrecefrance.org/index.php/event/soiree-taverne-2/
CATEGORIES:Soirée Taverne
ATTACH;FMTTYPE=image/jpeg:https://www.eurogrecefrance.org/wp-content/uploads/2025/09/Soiree-Taverne-fev2025_VERSION-FINALE.jpg
END:VEVENT
BEGIN:VEVENT
DTSTART;TZID=Europe/Paris:20251011T143000
DTEND;TZID=Europe/Paris:20251011T173000
DTSTAMP:20260422T182556
CREATED:20250831T185311Z
LAST-MODIFIED:20250929T115538Z
UID:515-1760193000-1760203800@www.eurogrecefrance.org
SUMMARY:Atelier de Cuisine
DESCRIPTION:Régulièrement\, l’association Euro-Grèce France propose des ateliers cuisine afin de faire découvrir la gastronomie grecque. \nDans chaque atelier sont proposées des recettes de saison\, en général un plat salé et un dessert/gâteau. \nLe matériel et les ingrédients sont fournis\, les convives viennent avec leur tablier\, leurs plats pour emporter une partie des réalisations et leur bonne humeur.  Souvent\, on déguste ensemble le fruit de notre travail. \n20 €/participant en fonction des recettes\nSur inscription\nContacter Mairi par sms : 06 01 97 08 78
URL:https://www.eurogrecefrance.org/index.php/event/atelier-de-cuisine/
CATEGORIES:Ateliers Cuisine
ATTACH;FMTTYPE=image/jpeg:https://www.eurogrecefrance.org/wp-content/uploads/2025/08/Affiche-Atelier-Cuisine-grecque-2025-DEF.jpg
END:VEVENT
BEGIN:VEVENT
DTSTART;VALUE=DATE:20251004
DTEND;VALUE=DATE:20251006
DTSTAMP:20260422T182556
CREATED:20250831T184623Z
LAST-MODIFIED:20250929T115811Z
UID:511-1759536000-1759708799@www.eurogrecefrance.org
SUMMARY:Stage de Danses Crétoises
DESCRIPTION:Stage de danses crétoises avec Pavlos Polioudakis (école de danse Akrites\, Rethymnon)niveau intermediaire/avancé\n\nsamedi 4 octobre 2025 : 10h-17hdimanche 5 octobre 2025 : 10h-14h\n\nRepas tiré du sac à partager.\nMaison pour tous André Chamson105 rue Gustave Eiffel 34070 Montpellier\n\nTarifs : 15 € adhérents inscrits au cours de danse ; 45 € non adhérents.\nSur inscription : 06 84 57 74 95
URL:https://www.eurogrecefrance.org/index.php/event/stage-de-danses-cretoises/
CATEGORIES:Stages
ATTACH;FMTTYPE=image/jpeg:https://www.eurogrecefrance.org/wp-content/uploads/2025/08/stage-danse-cretoise_Pavlos_Polioudakis_2025_20250828_094614_0000.jpg
END:VEVENT
BEGIN:VEVENT
DTSTART;TZID=Europe/Paris:20250907T093000
DTEND;TZID=Europe/Paris:20250907T173000
DTSTAMP:20260422T182556
CREATED:20250831T184130Z
LAST-MODIFIED:20250904T190822Z
UID:507-1757237400-1757266200@www.eurogrecefrance.org
SUMMARY:Antigone des associations
DESCRIPTION:
URL:https://www.eurogrecefrance.org/index.php/event/antigone-des-associations/
LOCATION:Stand EuroGrèceFrance\, place de thessalie\, montpelier\, occitanie\, 34000\, France
CATEGORIES:Autres
ATTACH;FMTTYPE=image/jpeg:https://www.eurogrecefrance.org/wp-content/uploads/2025/08/FB_IMG_1756365563426.jpg
END:VEVENT
BEGIN:VEVENT
DTSTART;VALUE=DATE:20250903
DTEND;VALUE=DATE:20250904
DTSTAMP:20260422T182556
CREATED:20250429T110529Z
LAST-MODIFIED:20250831T185034Z
UID:113-1756857600-1756943999@www.eurogrecefrance.org
SUMMARY:Conférence "Naissance du Théâtre grec"
DESCRIPTION:Par Mireille Sanchez
URL:https://www.eurogrecefrance.org/index.php/event/conference-naissance-du-theatre-grec/
LOCATION:montpellier
CATEGORIES:Conférence
ATTACH;FMTTYPE=image/jpeg:https://www.eurogrecefrance.org/wp-content/uploads/2025/04/3290-scaled.jpg
END:VEVENT
BEGIN:VEVENT
DTSTART;VALUE=DATE:20250524
DTEND;VALUE=DATE:20250525
DTSTAMP:20260422T182556
CREATED:20250429T112221Z
LAST-MODIFIED:20250825T074840Z
UID:125-1748044800-1748131199@www.eurogrecefrance.org
SUMMARY:Soirée Cabaret
DESCRIPTION:Les écoles de danses de la maison pour tous Melina Mercouri font leur show !\nPlus d’infos à venir
URL:https://www.eurogrecefrance.org/index.php/event/soiree-cabaret/
LOCATION:Maison pour tous Melina Mercouri\, 842 Rue de la vieille poste\, Montpellier\, occitanie\, 34000\, France
CATEGORIES:Soirée Taverne
ATTACH;FMTTYPE=image/webp:https://www.eurogrecefrance.org/wp-content/uploads/2025/04/eurogrecefrance-rebetiko.webp
END:VEVENT
BEGIN:VEVENT
DTSTART;VALUE=DATE:20250517
DTEND;VALUE=DATE:20250518
DTSTAMP:20260422T182556
CREATED:20250429T112301Z
LAST-MODIFIED:20250904T192050Z
UID:127-1747440000-1747526399@www.eurogrecefrance.org
SUMMARY:Atelier Cuisine
DESCRIPTION:Plus d’infos à venir
URL:https://www.eurogrecefrance.org/index.php/event/atelier-cuisine/
CATEGORIES:Ateliers Cuisine
END:VEVENT
BEGIN:VEVENT
DTSTART;TZID=Europe/Paris:20250426T080000
DTEND;TZID=Europe/Paris:20250426T170000
DTSTAMP:20260422T182556
CREATED:20250429T113447Z
LAST-MODIFIED:20250825T074855Z
UID:150-1745654400-1745686800@www.eurogrecefrance.org
SUMMARY:Sortie en Arles et Glanum
DESCRIPTION:Visite guidée du musée d’Arles antique et du site archéologique de Glanum par Mireille Sanchez\nRepas au restaurant grecque Chez Christou à Maussane
URL:https://www.eurogrecefrance.org/index.php/event/sortie-en-arles-et-glanum/
CATEGORIES:Autres
ATTACH;FMTTYPE=image/webp:https://www.eurogrecefrance.org/wp-content/uploads/2025/04/eurogrecefrance-arles.webp
END:VEVENT
BEGIN:VEVENT
DTSTART;VALUE=DATE:20250329
DTEND;VALUE=DATE:20250331
DTSTAMP:20260422T182556
CREATED:20250429T112422Z
LAST-MODIFIED:20250825T074901Z
UID:129-1743206400-1743379199@www.eurogrecefrance.org
SUMMARY:Fête Nationale Grecque 2025
DESCRIPTION:Pour cet évènement\, nous aurons l’ honneur de recevoir une délégation officielle grecque\, composée du Maire de KOS\, ville jumelée avec Montpellier et de la déléguée au Tourisme de la ville. \n**Samedi 29 mars -9h30 Te Deum en l’église Orthodoxe Sainte-Philothée au Domaine de Grammont à Montpellier – à 11 heures\, le dépôt de gerbe devant la statue d’ Adamantios KORAÏS\, située 5 place du Nombre d’Or suivi d’un cocktail déjeunatoire \n**Dimanche 30 mars 2025 à 12h30 Gala de l’association Euro-Grèce-France– Repas par le traiteur Grand-spectacle de danses traditionnelles de Thrace par les danseurs de l’assocation- chants grecs par la chorale « Myrtia » de l’association- animation musicale par le groupe Les Lavriotes\, accompagné de Sevi Steliatou\, notre cheffe de choeur. \nTombola avec de nombreux lots Salle des Rencontres de la mairie de Montpellier\, 1 place Georges Frêche à Montpellier.\nAccueil du public dès 12h00 Tarifs : Adulte Non adhérent Euro Grèce France : 45 € Adulte adhérent Euro Grèce France:  40 € Etudiant/chômeurs : 25 € Enfant (jusqu’à 12 ans) : 15 € \nDeux modes d’inscription et paiement : Inscription par courrier et paiement par chèque : en remplissant le dossier d’inscription\nInscription et paiement en ligne sur HelloAsso : https://www.helloasso.com/associations/association-euro-grece-france/evenements/fete-nationale-grecque-2025\nInscription et paiement à l’avance obligatoire. Aucune réservation sans réglement ne sera pas retenue. \nRéservation à faire avant le 20 mars 2025
URL:https://www.eurogrecefrance.org/index.php/event/fete-nationale-grecque-2025/
CATEGORIES:Autres
ATTACH;FMTTYPE=image/webp:https://www.eurogrecefrance.org/wp-content/uploads/2025/04/eurogrecefrance-fetenationale.webp
END:VEVENT
BEGIN:VEVENT
DTSTART;VALUE=DATE:20250315
DTEND;VALUE=DATE:20250316
DTSTAMP:20260422T182556
CREATED:20250429T112506Z
LAST-MODIFIED:20250825T074906Z
UID:131-1741996800-1742083199@www.eurogrecefrance.org
SUMMARY:Soirée Cabaret Rebetiko
DESCRIPTION:
URL:https://www.eurogrecefrance.org/index.php/event/soiree-cabaret-rebetiko/
CATEGORIES:Soirée Taverne
ATTACH;FMTTYPE=image/webp:https://www.eurogrecefrance.org/wp-content/uploads/2025/04/eurogrecefrance-rebetiko.webp
END:VEVENT
BEGIN:VEVENT
DTSTART;TZID=Europe/Paris:20250218T200000
DTEND;TZID=Europe/Paris:20250219T010000
DTSTAMP:20260422T182556
CREATED:20250429T112850Z
LAST-MODIFIED:20250929T114703Z
UID:134-1739908800-1739926800@www.eurogrecefrance.org
SUMMARY:Soirée Taverne
DESCRIPTION:Euro-Grèce France invite le groupe PHILIA pour une soirée taverne au restaurant La Petite Aphrodite\, Montpellier.\nSur réservation. \n 
URL:https://www.eurogrecefrance.org/index.php/event/soiree-taverne/
CATEGORIES:Soirée Taverne
ATTACH;FMTTYPE=image/webp:https://www.eurogrecefrance.org/wp-content/uploads/2025/04/eurogrecefrance-petiteAphrodise.webp
END:VEVENT
BEGIN:VEVENT
DTSTART;TZID=Europe/Paris:20250117T180000
DTEND;TZID=Europe/Paris:20250117T200000
DTSTAMP:20260422T182556
CREATED:20250429T112944Z
LAST-MODIFIED:20250825T074918Z
UID:136-1737136800-1737144000@www.eurogrecefrance.org
SUMMARY:Conférence "Langue Grecque : Un Voyage dans son histoire fascinante"
DESCRIPTION:
URL:https://www.eurogrecefrance.org/index.php/event/conference-langue-grecque-un-voyage-dans-son-histoire-fascinante/
CATEGORIES:Conférence
ATTACH;FMTTYPE=image/webp:https://www.eurogrecefrance.org/wp-content/uploads/2025/04/eurogrecefrance-langue.webp
END:VEVENT
BEGIN:VEVENT
DTSTART;TZID=Europe/Paris:20250112T170000
DTEND;TZID=Europe/Paris:20250112T190000
DTSTAMP:20260422T182556
CREATED:20250429T113020Z
LAST-MODIFIED:20250825T074924Z
UID:138-1736701200-1736708400@www.eurogrecefrance.org
SUMMARY:AG de l'association
DESCRIPTION:
URL:https://www.eurogrecefrance.org/index.php/event/ag-de-lassociation/
CATEGORIES:Autres
ATTACH;FMTTYPE=image/webp:https://www.eurogrecefrance.org/wp-content/uploads/2025/04/eurogrecefrance-ag.webp
END:VEVENT
BEGIN:VEVENT
DTSTART;TZID=Europe/Paris:20241214T170000
DTEND;TZID=Europe/Paris:20241214T200000
DTSTAMP:20260422T182556
CREATED:20250429T113139Z
LAST-MODIFIED:20250825T074930Z
UID:140-1734195600-1734206400@www.eurogrecefrance.org
SUMMARY:Concert "Les Noëls du Monde Chrétien"
DESCRIPTION:
URL:https://www.eurogrecefrance.org/index.php/event/concert-les-noels-du-monde-chretien/
CATEGORIES:Spectacle & Concert
ATTACH;FMTTYPE=image/webp:https://www.eurogrecefrance.org/wp-content/uploads/2025/04/eurogrecefrance-concertchretien.webp
END:VEVENT
BEGIN:VEVENT
DTSTART;TZID=Europe/Paris:20241214T143000
DTEND;TZID=Europe/Paris:20241214T173000
DTSTAMP:20260422T182556
CREATED:20250429T113206Z
LAST-MODIFIED:20250825T074935Z
UID:142-1734186600-1734197400@www.eurogrecefrance.org
SUMMARY:Noël des enfants
DESCRIPTION:
URL:https://www.eurogrecefrance.org/index.php/event/noel-des-enfants/
CATEGORIES:Autres
ATTACH;FMTTYPE=image/webp:https://www.eurogrecefrance.org/wp-content/uploads/2025/04/eurogrecefrance-noelenfant.webp
END:VEVENT
BEGIN:VEVENT
DTSTART;TZID=Europe/Paris:20241122T190000
DTEND;TZID=Europe/Paris:20241122T210000
DTSTAMP:20260422T182556
CREATED:20250429T113238Z
LAST-MODIFIED:20250825T074940Z
UID:144-1732302000-1732309200@www.eurogrecefrance.org
SUMMARY:Concerto du Canto Général
DESCRIPTION:
URL:https://www.eurogrecefrance.org/index.php/event/concerto-du-canto-general/
CATEGORIES:Spectacle & Concert
ATTACH;FMTTYPE=image/webp:https://www.eurogrecefrance.org/wp-content/uploads/2025/04/eurogrecefrance-cantogeneral.webp
END:VEVENT
BEGIN:VEVENT
DTSTART;TZID=Europe/Paris:20241018T190000
DTEND;TZID=Europe/Paris:20241018T210000
DTSTAMP:20260422T182556
CREATED:20250429T113325Z
LAST-MODIFIED:20250825T074948Z
UID:146-1729278000-1729285200@www.eurogrecefrance.org
SUMMARY:Spectacle Hommage au compositeur Mikis Theodorakis
DESCRIPTION:
URL:https://www.eurogrecefrance.org/index.php/event/spectavle-hommage-au-compositeur-mikis-theodorakis/
CATEGORIES:Spectacle & Concert
ATTACH;FMTTYPE=image/webp:https://www.eurogrecefrance.org/wp-content/uploads/2025/04/eurogrecefrance-mikis.webp
END:VEVENT
BEGIN:VEVENT
DTSTART;VALUE=DATE:20241012
DTEND;VALUE=DATE:20241014
DTSTAMP:20260422T182556
CREATED:20250429T113357Z
LAST-MODIFIED:20250825T074955Z
UID:148-1728691200-1728863999@www.eurogrecefrance.org
SUMMARY:Stage de danse grecques de Thrace
DESCRIPTION:
URL:https://www.eurogrecefrance.org/index.php/event/stage-de-danse-grecques-de-thrace/
CATEGORIES:Autres
ATTACH;FMTTYPE=image/webp:https://www.eurogrecefrance.org/wp-content/uploads/2025/04/eurogrecefrance-thrace.webp
END:VEVENT
END:VCALENDAR