BEGIN:VCALENDAR
VERSION:2.0
PRODID:-//Euro Grèce France - ECPv6.11.2.1//NONSGML v1.0//EN
CALSCALE:GREGORIAN
METHOD:PUBLISH
X-ORIGINAL-URL:https://www.eurogrecefrance.org
X-WR-CALDESC:Évènements pour Euro Grèce France
REFRESH-INTERVAL;VALUE=DURATION:PT1H
X-Robots-Tag:noindex
X-PUBLISHED-TTL:PT1H
BEGIN:VTIMEZONE
TZID:Europe/Paris
BEGIN:DAYLIGHT
TZOFFSETFROM:+0100
TZOFFSETTO:+0200
TZNAME:CEST
DTSTART:20260329T010000
END:DAYLIGHT
BEGIN:STANDARD
TZOFFSETFROM:+0200
TZOFFSETTO:+0100
TZNAME:CET
DTSTART:20261025T010000
END:STANDARD
END:VTIMEZONE
BEGIN:VEVENT
DTSTART;VALUE=DATE:20260328
DTEND;VALUE=DATE:20260330
DTSTAMP:20260422T220027
CREATED:20251202T084537Z
LAST-MODIFIED:20260216T102725Z
UID:704-1774656000-1774828799@www.eurogrecefrance.org
SUMMARY:Fête Nationale Grecque 2026
DESCRIPTION:**le samedi 28 mars 2026 \n– à 9H30\, le Te Deum en l’église Orthodoxe Sainte-Philothée au Domaine de Grammont à Montpellier\n– à 11 heures\, le dépôt de gerbe devant la statue d’ Adamantios KORAÏS\, située 5 place du Nombre d’Or\n\n\n\n\n\n\n\n\n  \n**Dimanche 29 mars 2026 à 12h30\nSalle des Rencontres de la mairie de Montpellier\, 1 place Georges Frêche à Montpellier. \nGala de l’association Euro-Grèce-France :\nChants grecs par la chorale « Myrtia » de l’association\nSpectacle de danses traditionnelles de Crète par les danseurs de l’association \nAnimation musicale par Dj Alex FP (Alexandros Azinas) \nRepas traiteur. Menu Entrée + Plat + dessert + vin (au choix au moment de l’inscription (viande\, poisson ou végétarien) \n  \nTarifs\nNon adhérent : 45 €\nAdhérent : 40 €\nEtudiant : 25 €\nEnfant (jusqu’à 12 ans) : 15 € \n\n\n\n\n\n\n\n\n\nPour y participer\, vous devez vous inscrire. Attention\, il y a 3 possibilités de plat principal (végétarien\, viande\, poisson) que vous devrez indiquer sur les fiches d’inscription. Cette information nous est indispensable et définitive pour la sollicitation du traiteur.\n\n\nAttention\, la date limite pour s’inscrire au repas du 29 mars est le 20 mars. \n \nCette année encore\, vous aurez la possibilité de régler votre participation de 2 manières:\n– un paiement en ligne par le biais du site HelloAsso  dont voici le lien que vous devez copier/coller:\n\n\n\n\n\n\n\n\n\n\n\n\n\n\n\n\n\n\n https://www.helloasso.com/associations/association-euro-grece-france/evenements/fete-nationale-grecque-2026 \n\n\n\n\n\n\n\n– un paiement par chèque avec le Bulletin Inscription Paiement par Chèque Fête Nationale 2026 \n\n  \n 
URL:https://www.eurogrecefrance.org/index.php/event/fete-nationale-grecque-2026/
CATEGORIES:Autres
ATTACH;FMTTYPE=image/jpeg:https://www.eurogrecefrance.org/wp-content/uploads/2025/12/Affiche_Fete-Nat_2026-scaled.jpg
END:VEVENT
END:VCALENDAR