BEGIN:VCALENDAR
VERSION:2.0
PRODID:-//Euro Grèce France - ECPv6.11.2.1//NONSGML v1.0//EN
CALSCALE:GREGORIAN
METHOD:PUBLISH
X-WR-CALNAME:Euro Grèce France
X-ORIGINAL-URL:https://www.eurogrecefrance.org
X-WR-CALDESC:Évènements pour Euro Grèce France
REFRESH-INTERVAL;VALUE=DURATION:PT1H
X-Robots-Tag:noindex
X-PUBLISHED-TTL:PT1H
BEGIN:VTIMEZONE
TZID:Europe/Paris
BEGIN:DAYLIGHT
TZOFFSETFROM:+0100
TZOFFSETTO:+0200
TZNAME:CEST
DTSTART:20250330T010000
END:DAYLIGHT
BEGIN:STANDARD
TZOFFSETFROM:+0200
TZOFFSETTO:+0100
TZNAME:CET
DTSTART:20251026T010000
END:STANDARD
END:VTIMEZONE
BEGIN:VEVENT
DTSTART;TZID=Europe/Paris:20250907T093000
DTEND;TZID=Europe/Paris:20250907T173000
DTSTAMP:20260423T090542
CREATED:20250831T184130Z
LAST-MODIFIED:20250904T190822Z
UID:507-1757237400-1757266200@www.eurogrecefrance.org
SUMMARY:Antigone des associations
DESCRIPTION:
URL:https://www.eurogrecefrance.org/index.php/event/antigone-des-associations/
LOCATION:Stand EuroGrèceFrance\, place de thessalie\, montpelier\, occitanie\, 34000\, France
CATEGORIES:Autres
ATTACH;FMTTYPE=image/jpeg:https://www.eurogrecefrance.org/wp-content/uploads/2025/08/FB_IMG_1756365563426.jpg
END:VEVENT
END:VCALENDAR