BEGIN:VCALENDAR
VERSION:2.0
PRODID:-//Euro Grèce France - ECPv6.11.2.1//NONSGML v1.0//EN
CALSCALE:GREGORIAN
METHOD:PUBLISH
X-ORIGINAL-URL:https://www.eurogrecefrance.org
X-WR-CALDESC:Évènements pour Euro Grèce France
REFRESH-INTERVAL;VALUE=DURATION:PT1H
X-Robots-Tag:noindex
X-PUBLISHED-TTL:PT1H
BEGIN:VTIMEZONE
TZID:Europe/Paris
BEGIN:DAYLIGHT
TZOFFSETFROM:+0100
TZOFFSETTO:+0200
TZNAME:CEST
DTSTART:20250330T010000
END:DAYLIGHT
BEGIN:STANDARD
TZOFFSETFROM:+0200
TZOFFSETTO:+0100
TZNAME:CET
DTSTART:20251026T010000
END:STANDARD
END:VTIMEZONE
BEGIN:VEVENT
DTSTART;VALUE=DATE:20250517
DTEND;VALUE=DATE:20250518
DTSTAMP:20260423T160105
CREATED:20250429T112301Z
LAST-MODIFIED:20250904T192050Z
UID:127-1747440000-1747526399@www.eurogrecefrance.org
SUMMARY:Atelier Cuisine
DESCRIPTION:Plus d’infos à venir
URL:https://www.eurogrecefrance.org/index.php/event/atelier-cuisine/
CATEGORIES:Ateliers Cuisine
END:VEVENT
END:VCALENDAR