BEGIN:VCALENDAR
VERSION:2.0
PRODID:-//Euro Grèce France - ECPv6.11.2.1//NONSGML v1.0//EN
CALSCALE:GREGORIAN
METHOD:PUBLISH
X-ORIGINAL-URL:https://www.eurogrecefrance.org
X-WR-CALDESC:Évènements pour Euro Grèce France
REFRESH-INTERVAL;VALUE=DURATION:PT1H
X-Robots-Tag:noindex
X-PUBLISHED-TTL:PT1H
BEGIN:VTIMEZONE
TZID:Europe/Paris
BEGIN:DAYLIGHT
TZOFFSETFROM:+0100
TZOFFSETTO:+0200
TZNAME:CEST
DTSTART:20250330T010000
END:DAYLIGHT
BEGIN:STANDARD
TZOFFSETFROM:+0200
TZOFFSETTO:+0100
TZNAME:CET
DTSTART:20251026T010000
END:STANDARD
END:VTIMEZONE
BEGIN:VEVENT
DTSTART;TZID=Europe/Paris:20250218T200000
DTEND;TZID=Europe/Paris:20250219T010000
DTSTAMP:20260423T210346
CREATED:20250429T112850Z
LAST-MODIFIED:20250929T114703Z
UID:134-1739908800-1739926800@www.eurogrecefrance.org
SUMMARY:Soirée Taverne
DESCRIPTION:Euro-Grèce France invite le groupe PHILIA pour une soirée taverne au restaurant La Petite Aphrodite\, Montpellier.\nSur réservation. \n 
URL:https://www.eurogrecefrance.org/index.php/event/soiree-taverne/
CATEGORIES:Soirée Taverne
ATTACH;FMTTYPE=image/webp:https://www.eurogrecefrance.org/wp-content/uploads/2025/04/eurogrecefrance-petiteAphrodise.webp
END:VEVENT
END:VCALENDAR