BEGIN:VCALENDAR
VERSION:2.0
PRODID:-//Euro Grèce France - ECPv6.11.2.1//NONSGML v1.0//EN
CALSCALE:GREGORIAN
METHOD:PUBLISH
X-ORIGINAL-URL:https://www.eurogrecefrance.org
X-WR-CALDESC:Évènements pour Euro Grèce France
REFRESH-INTERVAL;VALUE=DURATION:PT1H
X-Robots-Tag:noindex
X-PUBLISHED-TTL:PT1H
BEGIN:VTIMEZONE
TZID:Europe/Paris
BEGIN:DAYLIGHT
TZOFFSETFROM:+0100
TZOFFSETTO:+0200
TZNAME:CEST
DTSTART:20240331T010000
END:DAYLIGHT
BEGIN:STANDARD
TZOFFSETFROM:+0200
TZOFFSETTO:+0100
TZNAME:CET
DTSTART:20241027T010000
END:STANDARD
END:VTIMEZONE
BEGIN:VEVENT
DTSTART;TZID=Europe/Paris:20241122T190000
DTEND;TZID=Europe/Paris:20241122T210000
DTSTAMP:20260424T022916
CREATED:20250429T113238Z
LAST-MODIFIED:20250825T074940Z
UID:144-1732302000-1732309200@www.eurogrecefrance.org
SUMMARY:Concerto du Canto Général
DESCRIPTION:
URL:https://www.eurogrecefrance.org/index.php/event/concerto-du-canto-general/
CATEGORIES:Spectacle & Concert
ATTACH;FMTTYPE=image/webp:https://www.eurogrecefrance.org/wp-content/uploads/2025/04/eurogrecefrance-cantogeneral.webp
END:VEVENT
END:VCALENDAR